BEGIN:VCALENDAR
VERSION:2.0
METHOD:PUBLISH
PRODID:-//hacksw/handcal//NONSGML v1.0//EN
BEGIN:VEVENT
DTSTAMP:20260422T090522Z
DTSTART:20260615T180000Z
DTEND:20260615T190000Z
UID:20260615T180000Z-20260615T190000Z-542@archives.delaware.gov
SUMMARY:Black Family History at the Delaware Public Archives
DESCRIPTION:Black family history research can pose unique challenges a
 s you follow your family into the 19th century\, prior to the passage 
 of the 13th Amendment\, and earlier. This presentation highlights reso
 urces available at the Delaware Public Archives for researching Black 
 family history within Delaware\, from the present day and throughout t
 he history of the state. Discover techniques to uncover crucial detail
 s about formerly enslaved ancestors and Delaware’s rich history of fre
 e Black communities.\n\n \n\nPresented by: Leah Greer\, Delaware Publi
 c Archives
X-ALT-DESC;FMTTYPE=text/html:<p>Black family history research can pose
  unique challenges as you follow your family into the 19th century\, p
 rior to the passage of the 13th Amendment\, and earlier. This presenta
 tion highlights resources available at the Delaware Public Archives fo
 r researching Black family history within Delaware\, from the present 
 day and throughout the history of the state. Discover techniques to un
 cover crucial details about formerly enslaved ancestors and Delaware’s
  rich history of free Black communities.</p>\n<p>&nbsp\;</p>\n<p><stro
 ng>Presented by</strong>: Leah Greer\, Delaware Public Archives</p>\n
URL:https://archives.delaware.gov/events/black-family-history-at-the-d
 elaware-public-archives-6/?lang=en
ATTACH:https://archives.delaware.gov/events/black-family-history-at-th
 e-delaware-public-archives-6/?lang=en
LOCATION:Woodlawn Library\, 2020 W 9th St\, Wilmington
END:VEVENT
END:VCALENDAR
