BEGIN:VCALENDAR
VERSION:2.0
METHOD:PUBLISH
PRODID:-//hacksw/handcal//NONSGML v1.0//EN
BEGIN:VEVENT
DTSTAMP:20260419T171531Z
DTSTART:20180804T103000Z
DTEND:20180804T113000Z
UID:20180804T103000Z-20180804T113000Z-27@archives.delaware.gov
SUMMARY:Colonial Contagion: Smallpox and the American Revolution
DESCRIPTION:Presenter: Dr. Stephanie Holyfield\nDuring the American Re
 volution\, the smallpox epidemic was a major issue for both soldiers a
 nd civilians throughout the country.  In this program\, Dr. Stephanie 
 Holyfield will discuss the impact of smallpox in the American Revoluti
 on. This presentation will provide information about the history of th
 e disease during the colonial era\, George Washington’s decision to in
 oculate the army\, and how this epidemic threatened the outcome of the
  war.
X-ALT-DESC;FMTTYPE=text/html:<h4>Presenter: Dr. Stephanie Holyfield</h
 4>\n<p>During the American Revolution\, the smallpox epidemic was a ma
 jor issue for both soldiers and civilians throughout the country.  In 
 this program\, Dr. Stephanie Holyfield will discuss the impact of smal
 lpox in the American Revolution. This presentation will provide inform
 ation about the history of the disease during the colonial era\, Georg
 e Washington’s decision to inoculate the army\, and how this epidemic 
 threatened the outcome of the war.</p>\n
URL:https://archives.delaware.gov/events/27/colonial-contagion-smallpo
 x-and-the-american-revolution/?lang=en
ATTACH:https://archives.delaware.gov/events/27/colonial-contagion-smal
 lpox-and-the-american-revolution/?lang=en
LOCATION:Delaware Public Archives\, 121 MLK JR BLVD N\, Dover
END:VEVENT
END:VCALENDAR
